Package: SpatialDatasets Version: 1.9.0 Command: /home/biocbuild/bbs-3.23-bioc/R/bin/R CMD check --install=check:SpatialDatasets.install-out.txt --library=/home/biocbuild/bbs-3.23-bioc/R/site-library --timings SpatialDatasets_1.9.0.tar.gz StartedAt: 2025-11-13 13:08:22 -0500 (Thu, 13 Nov 2025) EndedAt: 2025-11-13 13:29:19 -0500 (Thu, 13 Nov 2025) EllapsedTime: 1256.8 seconds RetCode: 0 Status: WARNINGS CheckDir: SpatialDatasets.Rcheck Warnings: 3