Package: TCGAcrcmiRNA Version: 1.31.0 Command: /home/biocbuild/bbs-3.23-bioc/R/bin/R CMD INSTALL TCGAcrcmiRNA StartedAt: 2025-11-13 10:56:09 -0500 (Thu, 13 Nov 2025) EndedAt: 2025-11-13 10:56:12 -0500 (Thu, 13 Nov 2025) EllapsedTime: 3.1 seconds RetCode: 0 Status: OK