Package: TENxXeniumData Version: 1.7.0 Command: /home/biocbuild/bbs-3.23-bioc/R/bin/R CMD INSTALL TENxXeniumData StartedAt: 2025-11-20 11:03:05 -0500 (Thu, 20 Nov 2025) EndedAt: 2025-11-20 11:03:59 -0500 (Thu, 20 Nov 2025) EllapsedTime: 53.9 seconds RetCode: 0 Status: OK