Package: VariantToolsData Version: 1.35.0 Command: /home/biocbuild/bbs-3.23-bioc/R/bin/R CMD build --keep-empty-dirs --no-resave-data VariantToolsData StartedAt: 2025-11-13 11:48:29 -0500 (Thu, 13 Nov 2025) EndedAt: 2025-11-13 11:49:21 -0500 (Thu, 13 Nov 2025) EllapsedTime: 52.2 seconds RetCode: 0 Status: OK PackageFile: VariantToolsData_1.35.0.tar.gz PackageFileSize: 200.7 MiB