Package: VariantToolsData Version: 1.35.0 Command: /home/biocbuild/bbs-3.23-bioc/R/bin/R CMD INSTALL VariantToolsData StartedAt: 2025-11-13 11:03:46 -0500 (Thu, 13 Nov 2025) EndedAt: 2025-11-13 11:04:23 -0500 (Thu, 13 Nov 2025) EllapsedTime: 37.2 seconds RetCode: 0 Status: OK