Package: VectraPolarisData Version: 1.15.0 Command: /home/biocbuild/bbs-3.23-bioc/R/bin/R CMD INSTALL VectraPolarisData StartedAt: 2025-11-13 11:00:25 -0500 (Thu, 13 Nov 2025) EndedAt: 2025-11-13 11:00:55 -0500 (Thu, 13 Nov 2025) EllapsedTime: 29.8 seconds RetCode: 0 Status: OK