Package: beadarrayExampleData Version: 1.49.0 Command: /home/biocbuild/bbs-3.23-bioc/R/bin/R CMD build --keep-empty-dirs --no-resave-data beadarrayExampleData StartedAt: 2025-11-13 11:07:49 -0500 (Thu, 13 Nov 2025) EndedAt: 2025-11-13 11:08:15 -0500 (Thu, 13 Nov 2025) EllapsedTime: 25.7 seconds RetCode: 0 Status: OK PackageFile: beadarrayExampleData_1.49.0.tar.gz PackageFileSize: 29.96 MiB