Package: beadarrayExampleData Version: 1.49.0 Command: /home/biocbuild/bbs-3.23-bioc/R/bin/R CMD check --install=check:beadarrayExampleData.install-out.txt --library=/home/biocbuild/bbs-3.23-bioc/R/site-library --timings beadarrayExampleData_1.49.0.tar.gz StartedAt: 2025-11-13 12:02:45 -0500 (Thu, 13 Nov 2025) EndedAt: 2025-11-13 12:04:49 -0500 (Thu, 13 Nov 2025) EllapsedTime: 124.0 seconds RetCode: 0 Status: OK CheckDir: beadarrayExampleData.Rcheck Warnings: 0