Package: chipseqDBData Version: 1.27.0 Command: /home/biocbuild/bbs-3.23-bioc/R/bin/R CMD build --keep-empty-dirs --no-resave-data chipseqDBData StartedAt: 2025-11-13 11:10:06 -0500 (Thu, 13 Nov 2025) EndedAt: 2025-11-13 11:11:13 -0500 (Thu, 13 Nov 2025) EllapsedTime: 67.6 seconds RetCode: 0 Status: OK PackageFile: chipseqDBData_1.27.0.tar.gz PackageFileSize: 300.8 KiB