Package: chipseqDBData Version: 1.27.0 Command: /home/biocbuild/bbs-3.23-bioc/R/bin/R CMD INSTALL chipseqDBData StartedAt: 2025-11-13 11:00:42 -0500 (Thu, 13 Nov 2025) EndedAt: 2025-11-13 11:00:58 -0500 (Thu, 13 Nov 2025) EllapsedTime: 16.3 seconds RetCode: 0 Status: OK