Package: diffloopdata Version: 1.39.0 Command: /home/biocbuild/bbs-3.23-bioc/R/bin/R CMD check --install=check:diffloopdata.install-out.txt --library=/home/biocbuild/bbs-3.23-bioc/R/site-library --timings diffloopdata_1.39.0.tar.gz StartedAt: 2025-11-13 12:15:33 -0500 (Thu, 13 Nov 2025) EndedAt: 2025-11-13 12:15:50 -0500 (Thu, 13 Nov 2025) EllapsedTime: 16.6 seconds RetCode: 0 Status: OK CheckDir: diffloopdata.Rcheck Warnings: 0