Package: geneLenDataBase Version: 1.47.0 Command: /home/biocbuild/bbs-3.23-bioc/R/bin/R CMD INSTALL geneLenDataBase StartedAt: 2025-11-13 11:01:21 -0500 (Thu, 13 Nov 2025) EndedAt: 2025-11-13 11:02:37 -0500 (Thu, 13 Nov 2025) EllapsedTime: 75.7 seconds RetCode: 0 Status: OK