Package: hapmap500knsp Version: 1.53.0 Command: /home/biocbuild/bbs-3.23-bioc/R/bin/R CMD build --keep-empty-dirs --no-resave-data hapmap500knsp StartedAt: 2025-11-13 11:20:59 -0500 (Thu, 13 Nov 2025) EndedAt: 2025-11-13 11:23:40 -0500 (Thu, 13 Nov 2025) EllapsedTime: 161.1 seconds RetCode: 0 Status: OK PackageFile: hapmap500knsp_1.53.0.tar.gz PackageFileSize: 80.39 MiB