Package: hapmapsnp5 Version: 1.53.0 Command: /home/biocbuild/bbs-3.23-bioc/R/bin/R CMD build --keep-empty-dirs --no-resave-data hapmapsnp5 StartedAt: 2025-11-13 11:21:09 -0500 (Thu, 13 Nov 2025) EndedAt: 2025-11-13 11:23:02 -0500 (Thu, 13 Nov 2025) EllapsedTime: 112.1 seconds RetCode: 0 Status: OK PackageFile: hapmapsnp5_1.53.0.tar.gz PackageFileSize: 59.41 MiB