Package: homosapienDEE2CellScore Version: 1.7.0 Command: /home/biocbuild/bbs-3.23-bioc/R/bin/R CMD build --keep-empty-dirs --no-resave-data homosapienDEE2CellScore StartedAt: 2025-11-20 11:25:22 -0500 (Thu, 20 Nov 2025) EndedAt: 2025-11-20 11:25:58 -0500 (Thu, 20 Nov 2025) EllapsedTime: 36.2 seconds RetCode: 1 Status: ERROR PackageFile: None PackageFileSize: NA