Package: iModMixData Version: 1.1.0 Command: /home/biocbuild/bbs-3.23-bioc/R/bin/R CMD build --keep-empty-dirs --no-resave-data iModMixData StartedAt: 2025-11-13 11:25:22 -0500 (Thu, 13 Nov 2025) EndedAt: 2025-11-13 11:27:11 -0500 (Thu, 13 Nov 2025) EllapsedTime: 108.5 seconds RetCode: 0 Status: OK PackageFile: iModMixData_1.1.0.tar.gz PackageFileSize: 11.43 KiB