Package: minfiDataEPIC Version: 1.37.0 Command: /home/biocbuild/bbs-3.23-bioc/R/bin/R CMD INSTALL minfiDataEPIC StartedAt: 2025-11-13 11:01:56 -0500 (Thu, 13 Nov 2025) EndedAt: 2025-11-13 11:02:42 -0500 (Thu, 13 Nov 2025) EllapsedTime: 46.8 seconds RetCode: 0 Status: OK