Package: nullrangesData Version: 1.17.0 Command: /home/biocbuild/bbs-3.23-bioc/R/bin/R CMD build --keep-empty-dirs --no-resave-data nullrangesData StartedAt: 2025-11-13 11:34:36 -0500 (Thu, 13 Nov 2025) EndedAt: 2025-11-13 11:35:24 -0500 (Thu, 13 Nov 2025) EllapsedTime: 47.5 seconds RetCode: 0 Status: OK PackageFile: nullrangesData_1.17.0.tar.gz PackageFileSize: 4.148 MiB