Package: nullrangesData Version: 1.17.0 Command: /home/biocbuild/bbs-3.23-bioc/R/bin/R CMD INSTALL nullrangesData StartedAt: 2025-11-13 10:58:19 -0500 (Thu, 13 Nov 2025) EndedAt: 2025-11-13 10:58:49 -0500 (Thu, 13 Nov 2025) EllapsedTime: 30.3 seconds RetCode: 0 Status: OK