Package: oct4 Version: 1.27.0 Command: /home/biocbuild/bbs-3.23-bioc/R/bin/R CMD INSTALL oct4 StartedAt: 2025-11-20 10:55:20 -0500 (Thu, 20 Nov 2025) EndedAt: 2025-11-20 10:55:22 -0500 (Thu, 20 Nov 2025) EllapsedTime: 1.8 seconds RetCode: 0 Status: OK