Package: pepDat Version: 1.31.0 Command: /home/biocbuild/bbs-3.23-bioc/R/bin/R CMD INSTALL pepDat StartedAt: 2025-11-20 11:00:16 -0500 (Thu, 20 Nov 2025) EndedAt: 2025-11-20 11:00:23 -0500 (Thu, 20 Nov 2025) EllapsedTime: 7.5 seconds RetCode: 0 Status: OK