Package: sampleClassifierData Version: 1.35.0 Command: /home/biocbuild/bbs-3.23-bioc/R/bin/R CMD INSTALL sampleClassifierData StartedAt: 2025-11-13 10:59:03 -0500 (Thu, 13 Nov 2025) EndedAt: 2025-11-13 10:59:15 -0500 (Thu, 13 Nov 2025) EllapsedTime: 12.7 seconds RetCode: 0 Status: OK