Package: scATAC.Explorer Version: 1.17.0 Command: /home/biocbuild/bbs-3.23-bioc/R/bin/R CMD build --keep-empty-dirs --no-resave-data scATAC.Explorer StartedAt: 2025-11-20 11:42:05 -0500 (Thu, 20 Nov 2025) EndedAt: 2025-11-20 11:42:55 -0500 (Thu, 20 Nov 2025) EllapsedTime: 50.0 seconds RetCode: 0 Status: OK PackageFile: scATAC.Explorer_1.17.0.tar.gz PackageFileSize: 247.8 KiB