Package: scATAC.Explorer Version: 1.17.0 Command: /home/biocbuild/bbs-3.23-bioc/R/bin/R CMD INSTALL scATAC.Explorer StartedAt: 2025-11-20 11:02:53 -0500 (Thu, 20 Nov 2025) EndedAt: 2025-11-20 11:03:18 -0500 (Thu, 20 Nov 2025) EllapsedTime: 24.9 seconds RetCode: 0 Status: OK