Package: scRNAseq Version: 2.25.0 Command: /home/biocbuild/bbs-3.23-bioc/R/bin/R CMD build --keep-empty-dirs --no-resave-data scRNAseq StartedAt: 2025-11-13 11:42:05 -0500 (Thu, 13 Nov 2025) EndedAt: 2025-11-13 11:43:15 -0500 (Thu, 13 Nov 2025) EllapsedTime: 70.3 seconds RetCode: 0 Status: OK PackageFile: scRNAseq_2.25.0.tar.gz PackageFileSize: 304.5 KiB