Package: scaeData Version: 1.7.0 Command: /home/biocbuild/bbs-3.23-bioc/R/bin/R CMD INSTALL scaeData StartedAt: 2025-11-25 10:57:23 -0500 (Tue, 25 Nov 2025) EndedAt: 2025-11-25 10:57:36 -0500 (Tue, 25 Nov 2025) EllapsedTime: 13.2 seconds RetCode: 0 Status: OK