Package: simpIntLists Version: 1.47.0 Command: /home/biocbuild/bbs-3.23-bioc/R/bin/R CMD INSTALL simpIntLists StartedAt: 2025-11-25 10:55:29 -0500 (Tue, 25 Nov 2025) EndedAt: 2025-11-25 10:55:31 -0500 (Tue, 25 Nov 2025) EllapsedTime: 2.5 seconds RetCode: 0 Status: OK