All our mirrors of open source software are available via http, https, ftp and an onion service. More information about our mirrors including statistics and contact information is available on our mirror info pages.
For information about dotsrc.org and our other services please go to our website.
| File Name ↓ | File Size ↓ | Date ↓ |
|---|---|---|
| Parent directory/ | - | - |
| ABAData/ | - | 2016-10-09 02:31:54 |
| ALL/ | - | 2016-10-09 02:30:16 |
| ALLMLL/ | - | 2016-10-09 02:30:16 |
| ARRmData/ | - | 2016-10-09 02:31:15 |
| Affyhgu133A2Expr/ | - | 2016-10-09 02:31:34 |
| Affyhgu133Plus2Expr/ | - | 2016-10-09 02:31:34 |
| Affyhgu133aExpr/ | - | 2016-10-09 02:31:33 |
| AffymetrixDataTestFiles/ | - | 2016-10-09 02:30:15 |
| Affymoe4302Expr/ | - | 2016-10-09 02:31:33 |
| AmpAffyExample/ | - | 2016-10-09 02:30:16 |
| AneuFinderData/ | - | 2016-10-09 02:32:10 |
| AshkenazimSonChr21/ | - | 2016-10-09 02:31:53 |
| BeadArrayUseCases/ | - | 2016-10-09 02:30:59 |
| CCl4/ | - | 2016-10-09 02:30:32 |
| CLL/ | - | 2016-10-09 02:30:18 |
| COHCAPanno/ | - | 2016-10-09 02:31:32 |
| CONFESSdata/ | - | 2016-10-09 02:32:11 |
| COPDSexualDimorphism.data/ | - | 2016-10-09 02:31:36 |
| COSMIC.67/ | - | 2016-10-09 02:31:30 |
| CRCL18/ | - | 2016-10-09 02:31:41 |
| CardinalWorkflows/ | - | 2016-10-09 02:31:47 |
| ChAMPdata/ | - | 2016-10-09 02:31:28 |
| ChIPXpressData/ | - | 2016-10-09 02:29:24 |
| ChimpHumanBrainData/ | - | 2016-10-09 02:31:32 |
| ConnectivityMap/ | - | 2016-10-09 02:31:15 |
| CopyNumber450kData/ | - | 2016-10-09 02:31:33 |
| CopyhelpeR/ | - | 2016-10-09 02:31:51 |
| DAPARdata/ | - | 2016-10-09 02:32:11 |
| DLBCL/ | - | 2016-10-09 02:30:50 |
| DMRcatedata/ | - | 2016-10-09 02:31:33 |
| DREAM4/ | - | 2016-10-09 02:31:15 |
| DeSousa2013/ | - | 2016-10-09 02:31:18 |
| DmelSGI/ | - | 2016-10-09 02:31:48 |
| DonaPLLP2013/ | - | 2016-10-09 02:31:22 |
| DrugVsDiseasedata/ | - | 2016-10-09 02:31:15 |
| DvDdata/ | - | 2016-10-09 02:31:13 |
| EGSEAdata/ | - | 2016-10-09 02:32:14 |
| ELMER.data/ | - | 2016-10-09 02:31:52 |
| EatonEtAlChIPseq/ | - | 2016-10-09 02:30:48 |
| FANTOM3and4CAGE/ | - | 2016-10-09 02:31:14 |
| FIs/ | - | 2016-10-09 02:32:01 |
| Fletcher2013a/ | - | 2016-10-09 02:31:24 |
| Fletcher2013b/ | - | 2016-10-09 02:31:24 |
| FlowSorted.Blood.450k/ | - | 2016-10-09 02:31:26 |
| FlowSorted.CordBlood.450k/ | - | 2016-10-09 02:32:07 |
| FlowSorted.DLPFC.450k/ | - | 2016-10-09 02:31:36 |
| FunciSNP.data/ | - | 2016-10-09 02:31:05 |
| GGdata/ | - | 2016-10-09 02:30:23 |
| GSBenchMark/ | - | 2016-10-09 02:31:41 |
| GSE62944/ | - | 2016-10-09 02:32:07 |
| GSVAdata/ | - | 2016-10-09 02:30:55 |
| GWASdata/ | - | 2016-10-09 02:30:58 |
| GeuvadisTranscriptExpr/ | - | 2016-10-09 02:32:11 |
| HD2013SGI/ | - | 2016-10-09 02:31:16 |
| HEEBOdata/ | - | 2016-10-09 02:30:24 |
| HIVcDNAvantWout03/ | - | 2016-10-09 02:30:24 |
| HSMMSingleCell/ | - | 2016-10-09 02:31:36 |
| HarmanData/ | - | 2016-10-09 02:32:13 |
| HiCDataHumanIMR90/ | - | 2016-10-09 02:31:41 |
| HiCDataLymphoblast/ | - | 2016-10-09 02:31:31 |
| Hiiragi2013/ | - | 2016-10-09 02:31:16 |
| IHWpaper/ | - | 2016-10-09 02:32:15 |
| ITALICSData/ | - | 2016-10-09 02:30:40 |
| Illumina450ProbeVariants.db/ | - | 2016-10-09 02:31:28 |
| IlluminaDataTestFiles/ | - | 2016-10-09 02:31:23 |
| Iyer517/ | - | 2016-10-09 02:30:25 |
| JASPAR2014/ | - | 2016-10-09 02:31:27 |
| JASPAR2016/ | - | 2016-10-09 02:32:01 |
| JctSeqData/ | - | 2016-10-09 02:32:02 |
| JunctionSeq/ | - | 2016-01-21 01:22:53 |
| KEGGandMetacoreDzPathwaysGEO/ | - | 2016-10-09 02:31:37 |
| KEGGdzPathwaysGEO/ | - | 2016-10-09 02:31:10 |
| LiebermanAidenHiC2009/ | - | 2016-10-09 02:30:55 |
| ListerEtAlBSseq/ | - | 2016-10-09 02:31:42 |
| LungCancerACvsSCCGEO/ | - | 2016-10-09 02:31:21 |
| LungCancerLines/ | - | 2016-10-09 02:31:11 |
| MAQCsubset/ | - | 2016-10-09 02:30:25 |
| MAQCsubsetAFX/ | - | 2016-10-09 02:30:36 |
| MAQCsubsetILM/ | - | 2016-10-09 02:30:39 |
| MEALData/ | - | 2016-10-09 02:31:58 |
| MEDIPSData/ | - | 2016-10-09 02:31:08 |
| MEEBOdata/ | - | 2016-10-09 02:30:26 |
| MMDiffBamSubset/ | - | 2016-10-09 02:31:18 |
| MSBdata/ | - | 2016-10-09 02:31:36 |
| MUGAExampleData/ | - | 2016-10-09 02:31:38 |
| MethylAidData/ | - | 2016-10-09 02:31:49 |
| Mulder2012/ | - | 2016-10-09 02:31:06 |
| NCIgraphData/ | - | 2016-10-09 02:30:54 |
| NGScopyData/ | - | 2016-10-09 02:31:42 |
| Neve2006/ | - | 2016-10-09 02:30:32 |
| PCHiCdata/ | - | 2016-10-09 02:31:59 |
| PGPC/ | - | 2016-10-09 02:31:59 |
| PREDAsampledata/ | - | 2016-10-09 02:30:56 |
| PWMEnrich.Dmelanogaster.background/ | - | 2016-10-09 02:31:05 |
| PWMEnrich.Hsapiens.background/ | - | 2016-10-09 02:31:26 |
| PWMEnrich.Mmusculus.background/ | - | 2016-10-09 02:31:27 |
| PasillaTranscriptExpr/ | - | 2016-10-09 02:32:12 |
| PathNetData/ | - | 2016-10-09 02:31:12 |
| ProData/ | - | 2016-10-09 02:30:27 |
| QDNAseq.hg19/ | - | 2016-10-09 02:31:57 |
| QDNAseq.mm10/ | - | 2016-10-09 02:31:57 |
| QUBICdata/ | - | 2016-10-09 02:32:12 |
| RIPSeekerData/ | - | 2016-10-09 02:31:11 |
| RMassBankData/ | - | 2016-10-09 02:31:09 |
| RNAinteractMAPK/ | - | 2016-10-09 02:30:52 |
| RNAseqData.HNRNPC.bam.chr14/ | - | 2016-10-09 02:31:20 |
| RRBSdata/ | - | 2016-10-09 02:31:43 |
| RTCGA.CNV/ | - | 2016-10-09 02:32:06 |
| RTCGA.PANCAN12/ | - | 2016-10-09 02:32:05 |
| RTCGA.RPPA/ | - | 2016-10-09 02:32:06 |
| RTCGA.clinical/ | - | 2016-10-09 02:31:54 |
| RTCGA.mRNA/ | - | 2016-10-09 02:32:05 |
| RTCGA.methylation/ | - | 2016-10-09 02:32:04 |
| RTCGA.miRNASeq/ | - | 2016-10-09 02:32:04 |
| RTCGA.mutations/ | - | 2016-10-09 02:31:55 |
| RTCGA.rnaseq/ | - | 2016-10-09 02:31:56 |
| RUVnormalizeData/ | - | 2016-10-09 02:31:41 |
| RforProteomics/ | - | 2016-10-09 02:31:12 |
| RnBeads.hg19/ | - | 2016-10-09 02:31:51 |
| RnBeads.hg38/ | - | 2016-10-09 02:31:53 |
| RnBeads.mm10/ | - | 2016-10-09 02:31:52 |
| RnBeads.mm9/ | - | 2016-10-09 02:31:52 |
| RnBeads.rn5/ | - | 2016-10-09 02:31:52 |
| RnaSeqSampleSizeData/ | - | 2016-10-09 02:31:46 |
| RnaSeqTutorial/ | - | 2016-10-09 02:31:00 |
| SCLCBam/ | - | 2016-10-09 02:31:51 |
| SNAData/ | - | 2016-10-09 02:30:27 |
| SNAGEEdata/ | - | 2016-10-09 02:31:11 |
| SNPhoodData/ | - | 2016-10-09 02:31:58 |
| SVM2CRMdata/ | - | 2016-10-09 02:31:50 |
| Single.mTEC.Transcriptomes/ | - | 2016-10-09 02:32:03 |
| SomatiCAData/ | - | 2016-10-09 02:31:13 |
| SomaticCancerAlterations/ | - | 2016-10-09 02:31:26 |
| SpikeIn/ | - | 2016-10-09 02:30:27 |
| SpikeInSubset/ | - | 2016-10-09 02:30:28 |
| TBX20BamSubset/ | - | 2016-10-09 02:31:08 |
| TCGAMethylation450k/ | - | 2016-10-09 02:30:59 |
| TCGAcrcmRNA/ | - | 2016-10-09 02:31:42 |
| TCGAcrcmiRNA/ | - | 2016-10-09 02:31:42 |
| TargetScoreData/ | - | 2016-10-09 02:31:23 |
| TargetSearchData/ | - | 2016-10-09 02:30:45 |
| TimerQuant/ | - | 2016-10-09 02:31:57 |
| WES.1KG.WUGSC/ | - | 2016-10-09 02:31:46 |
| XhybCasneuf/ | - | 2016-10-09 02:30:35 |
| affycompData/ | - | 2016-10-09 02:30:52 |
| affydata/ | - | 2016-10-09 02:30:15 |
| airway/ | - | 2016-10-09 02:31:41 |
| antiProfilesData/ | - | 2016-10-09 02:31:17 |
| bcellViper/ | - | 2016-10-09 02:31:35 |
| beadarrayExampleData/ | - | 2016-10-09 02:30:58 |
| beta7/ | - | 2016-10-09 02:30:17 |
| bladderbatch/ | - | 2016-10-09 02:30:58 |
| blimaTestingData/ | - | 2016-10-09 02:31:37 |
| breastCancerMAINZ/ | - | 2016-10-09 02:30:52 |
| breastCancerNKI/ | - | 2016-10-09 02:30:53 |
| breastCancerTRANSBIG/ | - | 2016-10-09 02:30:53 |
| breastCancerUNT/ | - | 2016-10-09 02:30:53 |
| breastCancerUPP/ | - | 2016-10-09 02:30:54 |
| breastCancerVDX/ | - | 2016-10-09 02:30:54 |
| bronchialIL13/ | - | 2016-10-09 02:30:17 |
| bsseqData/ | - | 2016-10-09 02:31:07 |
| cMap2data/ | - | 2016-10-09 02:31:15 |
| cancerdata/ | - | 2016-10-09 02:31:05 |
| ccTutorial/ | - | 2016-10-09 02:30:39 |
| ceu1kg/ | - | 2016-10-09 02:30:50 |
| ceu1kgv/ | - | 2016-10-09 02:31:31 |
| ceuhm3/ | - | 2016-10-09 02:30:50 |
| cgdv17/ | - | 2016-10-09 02:31:02 |
| charmData/ | - | 2016-10-09 02:30:46 |
| cheung2010/ | - | 2016-10-09 02:30:56 |
| chipenrich.data/ | - | 2016-10-09 02:31:25 |
| cnvGSAdata/ | - | 2016-10-09 02:31:04 |
| colonCA/ | - | 2016-10-09 02:30:19 |
| curatedBladderData/ | - | 2016-10-09 02:31:25 |
| curatedBreastData/ | - | 2016-10-09 02:31:49 |
| curatedCRCData/ | - | 2016-10-09 02:31:30 |
| curatedOvarianData/ | - | 2016-10-09 02:31:12 |
| davidTiling/ | - | 2016-10-09 02:30:19 |
| derfinderData/ | - | 2016-10-09 02:31:43 |
| diffloopdata/ | - | 2016-10-09 02:32:14 |
| diggitdata/ | - | 2016-10-09 02:31:48 |
| dressCheck/ | - | 2016-10-09 02:30:50 |
| dsQTL/ | - | 2016-10-09 02:31:03 |
| dyebiasexamples/ | - | 2016-10-09 02:30:43 |
| ecoliLeucine/ | - | 2016-10-09 02:30:19 |
| encoDnaseI/ | - | 2016-10-09 02:30:38 |
| estrogen/ | - | 2016-10-09 02:30:19 |
| etec16s/ | - | 2016-10-09 02:32:13 |
| faahKO/ | - | 2016-10-09 02:30:20 |
| fabiaData/ | - | 2016-10-09 02:31:10 |
| facopy.annot/ | - | 2016-10-09 02:31:44 |
| facsDorit/ | - | 2016-10-09 02:30:20 |
| ffpeExampleData/ | - | 2016-10-09 02:31:03 |
| fibroEset/ | - | 2016-10-09 02:30:21 |
| fission/ | - | 2016-10-09 02:31:41 |
| flowFitExampleData/ | - | 2016-10-09 02:31:19 |
| flowWorkspaceData/ | - | 2016-10-09 02:30:55 |
| frmaExampleData/ | - | 2016-10-09 02:30:45 |
| fucci/ | - | 2016-04-03 02:22:43 |
| furrowSeg/ | - | 2016-10-09 02:32:01 |
| gageData/ | - | 2016-10-09 02:30:50 |
| gaschYHS/ | - | 2016-10-09 02:30:21 |
| gatingMLData/ | - | 2016-10-09 02:30:22 |
| gcspikelite/ | - | 2016-10-09 02:30:43 |
| geneLenDataBase/ | - | 2016-10-09 02:30:48 |
| genomationData/ | - | 2016-10-09 02:31:44 |
| geuvPack/ | - | 2016-10-09 02:31:45 |
| geuvStore/ | - | 2016-10-09 02:31:46 |
| geuvStore2/ | - | 2016-10-09 02:32:02 |
| ggtut/ | - | 2016-10-09 02:30:55 |
| golubEsets/ | - | 2016-10-09 02:30:24 |
| grndata/ | - | 2016-10-09 02:31:48 |
| gskb/ | - | 2016-10-09 02:31:51 |
| h5vcData/ | - | 2016-10-09 02:31:29 |
| hapmap100khind/ | - | 2016-10-09 02:30:34 |
| hapmap100kxba/ | - | 2016-10-09 02:30:31 |
| hapmap500knsp/ | - | 2016-10-09 02:30:34 |
| hapmap500ksty/ | - | 2016-10-09 02:30:34 |
| hapmapsnp5/ | - | 2016-10-09 02:30:38 |
| hapmapsnp6/ | - | 2016-10-09 02:30:39 |
| harbChIP/ | - | 2016-10-09 02:30:24 |
| healthyFlowData/ | - | 2016-10-09 02:31:32 |
| hgu133abarcodevecs/ | - | 2016-10-09 02:30:46 |
| hgu133plus2barcodevecs/ | - | 2016-10-09 02:30:46 |
| hgu2beta7/ | - | 2016-10-09 02:30:24 |
| hmyriB36/ | - | 2016-10-09 02:30:42 |
| humanStemCell/ | - | 2016-10-09 02:30:41 |
| ind1KG/ | - | 2016-10-09 02:30:45 |
| iontreeData/ | - | 2016-10-09 02:30:57 |
| kidpack/ | - | 2016-10-09 02:30:25 |
| leeBamViews/ | - | 2016-10-09 02:30:47 |
| leukemiasEset/ | - | 2016-10-09 02:31:17 |
| lumiBarnes/ | - | 2016-10-09 02:30:30 |
| lungExpression/ | - | 2016-10-09 02:30:29 |
| mAPKLData/ | - | 2016-10-09 02:31:47 |
| mammaPrintData/ | - | 2016-10-09 02:31:20 |
| maqcExpression4plex/ | - | 2016-10-09 02:30:33 |
| metaMSdata/ | - | 2016-10-09 02:31:36 |
| miRNATarget/ | - | 2016-10-09 02:31:05 |
| miRcompData/ | - | 2016-10-09 02:31:59 |
| minfiData/ | - | 2016-10-09 02:30:57 |
| minionSummaryData/ | - | 2016-10-09 02:31:53 |
| mitoODEdata/ | - | 2016-10-09 02:31:21 |
| mosaicsExample/ | - | 2016-10-09 02:30:51 |
| mouse4302barcodevecs/ | - | 2016-10-09 02:30:46 |
| msd16s/ | - | 2016-10-09 02:31:38 |
| msdata/ | - | 2016-10-09 02:30:37 |
| msqc1/ | - | 2016-10-09 02:32:08 |
| mtbls2/ | - | 2016-10-09 02:31:56 |
| mvoutData/ | - | 2016-10-09 02:30:42 |
| pRolocdata/ | - | 2016-10-09 02:31:11 |
| parathyroidSE/ | - | 2016-10-09 02:31:13 |
| pasilla/ | - | 2016-10-09 02:30:55 |
| pasillaBamSubset/ | - | 2016-10-09 02:31:03 |
| pcaGoPromoter.Hs.hg19/ | - | 2016-10-09 02:31:00 |
| pcaGoPromoter.Mm.mm9/ | - | 2016-10-09 02:31:00 |
| pcaGoPromoter.Rn.rn4/ | - | 2016-10-09 02:31:00 |
| pd.atdschip.tiling/ | - | 2016-10-09 02:31:10 |
| pepDat/ | - | 2016-10-09 02:31:39 |
| ppiData/ | - | 2016-10-09 02:30:26 |
| prebsdata/ | - | 2016-10-09 02:31:18 |
| prostateCancerCamcap/ | - | 2016-10-09 02:32:08 |
| prostateCancerGrasso/ | - | 2016-10-09 02:32:09 |
| prostateCancerStockholm/ | - | 2016-10-09 02:32:09 |
| prostateCancerTaylor/ | - | 2016-10-09 02:32:08 |
| prostateCancerVarambally/ | - | 2016-10-09 02:32:10 |
| pumadata/ | - | 2016-10-09 02:30:32 |
| rRDPData/ | - | 2016-10-09 02:31:43 |
| rcellminerData/ | - | 2016-10-09 02:31:49 |
| rheumaticConditionWOLLBOLD/ | - | 2016-10-09 02:31:01 |
| seq2pathway.data/ | - | 2016-10-09 02:31:47 |
| seqCNA.annot/ | - | 2016-10-09 02:31:24 |
| seqc/ | - | 2016-10-09 02:31:44 |
| serumStimulation/ | - | 2016-10-09 02:31:00 |
| seventyGeneData/ | - | 2016-10-09 02:31:20 |
| shinyMethylData/ | - | 2016-10-09 02:31:39 |
| simpIntLists/ | - | 2016-10-09 02:30:52 |
| stemHypoxia/ | - | 2016-10-09 02:31:11 |
| stjudem/ | - | 2016-10-09 02:30:28 |
| synapterdata/ | - | 2016-10-09 02:31:07 |
| systemPipeRdata/ | - | 2016-10-09 02:31:56 |
| tinesath1cdf/ | - | 2016-10-09 02:30:35 |
| tinesath1probe/ | - | 2016-10-09 02:30:35 |
| tofsimsData/ | - | 2016-10-09 02:32:03 |
| tweeDEseqCountData/ | - | 2016-10-09 02:30:59 |
| tximportData/ | - | 2016-10-09 02:32:07 |
| waveTilingData/ | - | 2016-10-09 02:31:06 |
| yeastCC/ | - | 2016-10-09 02:30:29 |
| yeastExpData/ | - | 2016-10-09 02:30:29 |
| yeastGSData/ | - | 2016-10-09 02:30:36 |
| yeastNagalakshmi/ | - | 2016-10-09 02:30:56 |
| yeastRNASeq/ | - | 2016-10-09 02:30:45 |
| yri1kgv/ | - | 2016-10-09 02:31:31 |
| yriMulti/ | - | 2016-10-09 02:32:00 |
| zebrafishRNASeq/ | - | 2016-10-09 02:31:38 |
| 120px-Blue_Light_Icon.svg.png | 7.1 KiB | 2016-10-09 02:28:40 |
| 120px-Green_Light_Icon.svg.png | 7.1 KiB | 2016-10-09 02:28:40 |
| 120px-Red_Light_Icon.svg.png | 7.0 KiB | 2016-10-09 02:28:40 |
| DEVEL3b-green2.png | 742 B | 2016-10-09 02:28:40 |
| STATUS_DB.txt | 71.6 KiB | 2016-10-09 02:28:38 |
| index.html | 803.5 KiB | 2016-10-09 02:32:25 |
| linux2.bioconductor.org-NodeInfo.html | 6.0 KiB | 2015-10-24 23:26:26 |
| linux2.bioconductor.org-R-instpkgs.html | 90.7 KiB | 2015-10-24 23:26:26 |
| linux2.bioconductor.org-index.html | 285.7 KiB | 2015-10-24 23:26:24 |
| meat-index.txt | 68.6 KiB | 2016-10-09 02:28:38 |
| morelia-NodeInfo.html | 5.6 KiB | 2015-11-26 00:26:50 |
| morelia-R-instpkgs.html | 90.2 KiB | 2015-11-26 00:26:50 |
| morelia-index.html | 230.4 KiB | 2015-11-26 00:26:50 |
| moscato2-NodeInfo.html | 6.3 KiB | 2016-10-09 02:32:19 |
| moscato2-R-instpkgs.html | 101.1 KiB | 2016-10-09 02:32:19 |
| moscato2-index.html | 261.8 KiB | 2016-10-09 02:32:19 |
| report.css | 8.3 KiB | 2016-10-09 02:28:40 |
| report.js | 5.1 KiB | 2016-10-09 02:28:40 |
| report.tgz | 1.2 MiB | 2016-10-09 02:32:33 |
| windows2.bioconductor.org-NodeInfo.html | 6.1 KiB | 2015-10-24 23:26:26 |
| windows2.bioconductor.org-R-instpkgs.html | 90.9 KiB | 2015-10-24 23:26:26 |
| windows2.bioconductor.org-index.html | 269.7 KiB | 2015-10-24 23:26:25 |
| zin2-NodeInfo.html | 5.9 KiB | 2016-10-09 02:32:19 |
| zin2-R-instpkgs.html | 102.9 KiB | 2016-10-09 02:32:19 |
| zin2-index.html | 279.1 KiB | 2016-10-09 02:32:17 |