| BiocParallel 1.8.2 Bioconductor Package Maintainer
 
 | Snapshot Date: 2017-04-14 17:17:13 -0400 (Fri, 14 Apr 2017) |  | URL: https://hedgehog.fhcrc.org/bioconductor/branches/RELEASE_3_4/madman/Rpacks/BiocParallel |  | Last Changed Rev: 128057 / Revision: 128728 |  | Last Changed Date: 2017-04-05 02:56:24 -0400 (Wed, 05 Apr 2017) | 
 | malbec1 | Linux (Ubuntu 16.04.1 LTS) / x86_64 | OK | OK | OK |  |  | 
| tokay1 | Windows Server 2012 R2 Standard / x64 | OK | OK | OK | [ OK ] |  | 
| morelia | Mac OS X Mavericks (10.9.5) / x86_64 | OK | OK | OK | OK |  | 
##############################################################################
##############################################################################
###
### Running command:
###
###   cd BiocParallel.buildbin-libdir/BiocParallel && zip -r ../../BiocParallel_1.8.2.zip . & cd ../..
###
##############################################################################
##############################################################################
  adding: DESCRIPTION (284 bytes security) (deflated 55%)
  adding: doc/ (324 bytes security) (stored 0%)
  adding: doc/Errors_Logs_And_Debugging.pdf (284 bytes security) (deflated 16%)
  adding: doc/Errors_Logs_And_Debugging.R (284 bytes security) (deflated 80%)
  adding: doc/Errors_Logs_And_Debugging.Rnw (284 bytes security) (deflated 67%)
  adding: doc/index.html (284 bytes security) (deflated 69%)
  adding: doc/Introduction_To_BiocParallel.pdf (284 bytes security) (deflated 18%)
  adding: doc/Introduction_To_BiocParallel.R (284 bytes security) (deflated 77%)
  adding: doc/Introduction_To_BiocParallel.Rnw (284 bytes security) (deflated 68%)
  adding: help/ (324 bytes security) (stored 0%)
  adding: help/aliases.rds (284 bytes security) (stored 0%)
  adding: help/AnIndex (284 bytes security) (deflated 86%)
  adding: help/BiocParallel.rdb (284 bytes security) (deflated 1%)
  adding: help/BiocParallel.rdx (284 bytes security) (stored 0%)
  adding: help/paths.rds (284 bytes security) (stored 0%)
  adding: html/ (324 bytes security) (stored 0%)
  adding: html/00Index.html (284 bytes security) (deflated 91%)
  adding: html/R.css (284 bytes security) (deflated 75%)
  adding: INDEX (284 bytes security) (deflated 65%)
  adding: MD5 (284 bytes security) (deflated 48%)
  adding: Meta/ (324 bytes security) (stored 0%)
  adding: Meta/hsearch.rds (284 bytes security) (stored 0%)
  adding: Meta/links.rds (284 bytes security) (stored 0%)
  adding: Meta/nsInfo.rds (284 bytes security) (stored 0%)
  adding: Meta/package.rds (284 bytes security) (stored 0%)
  adding: Meta/Rd.rds (284 bytes security) (stored 0%)
  adding: Meta/vignette.rds (284 bytes security) (stored 0%)
  adding: NAMESPACE (284 bytes security) (deflated 74%)
  adding: NEWS (284 bytes security) (deflated 56%)
  adding: NEWS.Rd (284 bytes security) (deflated 59%)
  adding: R/ (324 bytes security) (stored 0%)
  adding: R/BiocParallel (284 bytes security) (deflated 41%)
  adding: R/BiocParallel.rdb (284 bytes security) (deflated 29%)
  adding: R/BiocParallel.rdx (284 bytes security) (deflated 3%)
  adding: RMPInode.sh (284 bytes security) (deflated 10%)
  adding: RSOCKnode.sh (284 bytes security) (deflated 19%)
  adding: snow/ (324 bytes security) (stored 0%)
  adding: snow/RMPInode.R (284 bytes security) (deflated 48%)
  adding: snow/RSOCKnode.R (284 bytes security) (deflated 49%)
  adding: unitTests/ (324 bytes security) (stored 0%)
  adding: unitTests/test_BatchJobsParam.R (284 bytes security) (deflated 45%)
  adding: unitTests/test_bpaggregate.R (284 bytes security) (deflated 53%)
  adding: unitTests/test_bpiterate.R (284 bytes security) (deflated 77%)
  adding: unitTests/test_bplapply.R (284 bytes security) (deflated 72%)
  adding: unitTests/test_bploop.R (284 bytes security) (deflated 85%)
  adding: unitTests/test_bpmapply.R (284 bytes security) (deflated 74%)
  adding: unitTests/test_bpvalidate.R (284 bytes security) (deflated 78%)
  adding: unitTests/test_bpvec.R (284 bytes security) (deflated 54%)
  adding: unitTests/test_bpvectorize.R (284 bytes security) (deflated 44%)
  adding: unitTests/test_errorhandling.R (284 bytes security) (deflated 78%)
  adding: unitTests/test_logging.R (284 bytes security) (deflated 54%)
  adding: unitTests/test_refclass.R (284 bytes security) (deflated 58%)
  adding: unitTests/test_SnowParam.R (284 bytes security) (deflated 77%)
  adding: unitTests/test_utilities.R (284 bytes security) (deflated 78%)