All our mirrors of open source software are available via http, https, ftp and an onion service. More information about our mirrors including statistics and contact information is available on our mirror info pages.
For information about dotsrc.org and our other services please go to our website.
| File Name ↓ | File Size ↓ | Date ↓ | 
|---|---|---|
| Parent directory/ | - | - | 
| ABAData/ | - | 2017-08-16 18:24:26 | 
| ALL/ | - | 2017-08-16 18:24:26 | 
| ALLMLL/ | - | 2017-08-16 18:24:26 | 
| ARRmData/ | - | 2017-08-16 18:24:26 | 
| Affyhgu133A2Expr/ | - | 2017-08-16 18:24:26 | 
| Affyhgu133Plus2Expr/ | - | 2017-08-16 18:24:26 | 
| Affyhgu133aExpr/ | - | 2017-08-16 18:24:26 | 
| AffymetrixDataTestFiles/ | - | 2017-08-16 18:24:26 | 
| Affymoe4302Expr/ | - | 2017-08-16 18:24:26 | 
| AmpAffyExample/ | - | 2017-08-16 18:24:26 | 
| AneuFinderData/ | - | 2017-08-16 18:24:26 | 
| AshkenazimSonChr21/ | - | 2017-08-16 18:24:26 | 
| BeadArrayUseCases/ | - | 2017-08-16 18:24:26 | 
| CCl4/ | - | 2017-08-16 18:24:26 | 
| CLL/ | - | 2017-08-16 18:24:26 | 
| COHCAPanno/ | - | 2017-08-16 18:24:26 | 
| CONFESSdata/ | - | 2017-08-16 18:24:26 | 
| COPDSexualDimorphism.data/ | - | 2017-08-16 18:24:26 | 
| COSMIC.67/ | - | 2017-08-16 18:24:26 | 
| CRCL18/ | - | 2017-08-16 18:24:26 | 
| CardinalWorkflows/ | - | 2017-08-16 18:24:26 | 
| CellMapperData/ | - | 2017-08-16 18:24:26 | 
| ChAMPdata/ | - | 2017-08-16 18:24:26 | 
| ChIPXpressData/ | - | 2017-08-16 18:24:26 | 
| ChIPexoQualExample/ | - | 2017-08-16 18:24:26 | 
| ChimpHumanBrainData/ | - | 2017-08-16 18:24:26 | 
| ConnectivityMap/ | - | 2017-08-16 18:24:26 | 
| CopyNumber450kData/ | - | 2017-08-16 18:24:26 | 
| CopyhelpeR/ | - | 2017-08-16 18:24:26 | 
| DAPARdata/ | - | 2017-08-16 18:24:26 | 
| DLBCL/ | - | 2017-08-16 18:24:26 | 
| DMRcatedata/ | - | 2017-08-16 18:24:26 | 
| DREAM4/ | - | 2017-08-16 18:24:26 | 
| DeSousa2013/ | - | 2017-08-16 18:24:26 | 
| DmelSGI/ | - | 2017-08-16 18:24:26 | 
| DonaPLLP2013/ | - | 2017-08-16 18:24:26 | 
| DrugVsDiseasedata/ | - | 2017-08-16 18:24:26 | 
| DvDdata/ | - | 2017-08-16 18:24:26 | 
| EGSEAdata/ | - | 2017-08-16 18:24:26 | 
| ELMER.data/ | - | 2017-08-16 18:24:26 | 
| EatonEtAlChIPseq/ | - | 2017-08-16 18:24:26 | 
| FANTOM3and4CAGE/ | - | 2017-08-16 18:24:26 | 
| FIs/ | - | 2017-08-16 18:24:26 | 
| Fletcher2013a/ | - | 2017-08-16 18:24:26 | 
| Fletcher2013b/ | - | 2017-08-16 18:24:26 | 
| FlowSorted.Blood.450k/ | - | 2017-08-16 18:24:26 | 
| FlowSorted.CordBlood.450k/ | - | 2017-08-16 18:24:26 | 
| FlowSorted.CordBloodNorway.450k/ | - | 2017-08-16 18:24:26 | 
| FlowSorted.DLPFC.450k/ | - | 2017-08-16 18:24:26 | 
| FunciSNP.data/ | - | 2017-08-16 18:24:26 | 
| GGdata/ | - | 2017-08-16 18:24:26 | 
| GSBenchMark/ | - | 2017-08-16 18:24:26 | 
| GSE62944/ | - | 2017-08-16 18:24:26 | 
| GSVAdata/ | - | 2017-08-16 18:24:26 | 
| GWASdata/ | - | 2017-08-16 18:24:26 | 
| GeuvadisTranscriptExpr/ | - | 2017-08-16 18:24:26 | 
| HD2013SGI/ | - | 2017-08-16 18:24:26 | 
| HEEBOdata/ | - | 2017-08-16 18:24:26 | 
| HIVcDNAvantWout03/ | - | 2017-08-16 18:24:26 | 
| HSMMSingleCell/ | - | 2017-08-16 18:24:26 | 
| HarmanData/ | - | 2017-08-16 18:24:26 | 
| HelloRangesData/ | - | 2017-08-16 18:24:26 | 
| HiCDataHumanIMR90/ | - | 2017-08-16 18:24:26 | 
| HiCDataLymphoblast/ | - | 2017-08-16 18:24:26 | 
| Hiiragi2013/ | - | 2017-08-16 18:24:26 | 
| HumanAffyData/ | - | 2017-08-16 18:24:26 | 
| IHWpaper/ | - | 2017-08-16 18:24:26 | 
| ITALICSData/ | - | 2017-08-16 18:24:26 | 
| Illumina450ProbeVariants.db/ | - | 2017-08-16 18:24:26 | 
| IlluminaDataTestFiles/ | - | 2017-08-16 18:24:26 | 
| Iyer517/ | - | 2017-08-16 18:24:26 | 
| JASPAR2014/ | - | 2017-08-16 18:24:26 | 
| JASPAR2016/ | - | 2017-08-16 18:24:26 | 
| JctSeqData/ | - | 2017-08-16 18:24:26 | 
| KEGGandMetacoreDzPathwaysGEO/ | - | 2017-08-16 18:24:26 | 
| KEGGdzPathwaysGEO/ | - | 2017-08-16 18:24:26 | 
| KOdata/ | - | 2017-08-16 18:24:26 | 
| LiebermanAidenHiC2009/ | - | 2017-08-16 18:24:26 | 
| ListerEtAlBSseq/ | - | 2017-08-16 18:24:26 | 
| LungCancerACvsSCCGEO/ | - | 2017-08-16 18:24:26 | 
| LungCancerLines/ | - | 2017-08-16 18:24:26 | 
| M3DExampleData/ | - | 2017-08-16 18:24:26 | 
| MAQCsubset/ | - | 2017-08-16 18:24:26 | 
| MAQCsubsetAFX/ | - | 2017-08-16 18:24:26 | 
| MAQCsubsetILM/ | - | 2017-08-16 18:24:26 | 
| MEALData/ | - | 2017-08-16 18:24:26 | 
| MEDIPSData/ | - | 2017-08-16 18:24:26 | 
| MEEBOdata/ | - | 2017-08-16 18:24:26 | 
| MIGSAdata/ | - | 2017-08-16 18:24:26 | 
| MMDiffBamSubset/ | - | 2017-08-16 18:24:26 | 
| MSBdata/ | - | 2017-08-16 18:24:26 | 
| MUGAExampleData/ | - | 2017-08-16 18:24:26 | 
| MethylAidData/ | - | 2017-08-16 18:24:26 | 
| Mulder2012/ | - | 2017-08-16 18:24:26 | 
| NCIgraphData/ | - | 2017-08-16 18:24:26 | 
| NGScopyData/ | - | 2017-08-16 18:24:26 | 
| Neve2006/ | - | 2017-08-16 18:24:26 | 
| PCHiCdata/ | - | 2017-08-16 18:24:26 | 
| PGPC/ | - | 2017-08-16 18:24:26 | 
| PREDAsampledata/ | - | 2017-08-16 18:24:26 | 
| PWMEnrich.Dmelanogaster.background/ | - | 2017-08-16 18:24:26 | 
| PWMEnrich.Hsapiens.background/ | - | 2017-08-16 18:24:26 | 
| PWMEnrich.Mmusculus.background/ | - | 2017-08-16 18:24:26 | 
| PasillaTranscriptExpr/ | - | 2017-08-16 18:24:26 | 
| PathNetData/ | - | 2017-08-16 18:24:26 | 
| ProData/ | - | 2017-08-16 18:24:26 | 
| PtH2O2lipids/ | - | 2017-08-16 18:24:26 | 
| QDNAseq.hg19/ | - | 2017-08-16 18:24:26 | 
| QDNAseq.mm10/ | - | 2017-08-16 18:24:26 | 
| QUBICdata/ | - | 2017-08-16 18:24:26 | 
| RIPSeekerData/ | - | 2017-08-16 18:24:26 | 
| RITANdata/ | - | 2017-08-16 18:24:26 | 
| RMassBankData/ | - | 2017-08-16 18:24:26 | 
| RNAinteractMAPK/ | - | 2017-08-16 18:24:26 | 
| RNAseqData.HNRNPC.bam.chr14/ | - | 2017-08-16 18:24:26 | 
| RRBSdata/ | - | 2017-08-16 18:24:26 | 
| RTCGA.CNV/ | - | 2017-08-16 18:24:26 | 
| RTCGA.PANCAN12/ | - | 2017-08-16 18:24:26 | 
| RTCGA.RPPA/ | - | 2017-08-16 18:24:26 | 
| RTCGA.clinical/ | - | 2017-08-16 18:24:26 | 
| RTCGA.mRNA/ | - | 2017-08-16 18:24:26 | 
| RTCGA.methylation/ | - | 2017-08-16 18:24:26 | 
| RTCGA.miRNASeq/ | - | 2017-08-16 18:24:26 | 
| RTCGA.mutations/ | - | 2017-08-16 18:24:26 | 
| RTCGA.rnaseq/ | - | 2017-08-16 18:24:26 | 
| RUVnormalizeData/ | - | 2017-08-16 18:24:26 | 
| RforProteomics/ | - | 2017-08-16 18:24:27 | 
| RnBeads.hg19/ | - | 2017-08-16 18:24:27 | 
| RnBeads.hg38/ | - | 2017-08-16 18:24:27 | 
| RnBeads.mm10/ | - | 2017-08-16 18:24:27 | 
| RnBeads.mm9/ | - | 2017-08-16 18:24:27 | 
| RnBeads.rn5/ | - | 2017-08-16 18:24:27 | 
| RnaSeqSampleSizeData/ | - | 2017-08-16 18:24:27 | 
| RnaSeqTutorial/ | - | 2017-08-16 18:24:27 | 
| SCLCBam/ | - | 2017-08-16 18:24:27 | 
| SNAData/ | - | 2017-08-16 18:24:27 | 
| SNAGEEdata/ | - | 2017-08-16 18:24:27 | 
| SNPhoodData/ | - | 2017-08-16 18:24:27 | 
| SVM2CRMdata/ | - | 2017-08-16 18:24:27 | 
| Single.mTEC.Transcriptomes/ | - | 2017-08-16 18:24:27 | 
| SomatiCAData/ | - | 2017-08-16 18:24:27 | 
| SomaticCancerAlterations/ | - | 2017-08-16 18:24:27 | 
| SpikeIn/ | - | 2017-08-16 18:24:27 | 
| SpikeInSubset/ | - | 2017-08-16 18:24:27 | 
| TBX20BamSubset/ | - | 2017-08-16 18:24:27 | 
| TCGAMethylation450k/ | - | 2017-08-16 18:24:27 | 
| TCGAWorkflowData/ | - | 2017-08-16 18:24:26 | 
| TCGAcrcmRNA/ | - | 2017-08-16 18:24:27 | 
| TCGAcrcmiRNA/ | - | 2017-08-16 18:24:27 | 
| TargetScoreData/ | - | 2017-08-16 18:24:27 | 
| TargetSearchData/ | - | 2017-08-16 18:24:27 | 
| TimerQuant/ | - | 2017-08-16 18:24:27 | 
| VariantToolsData/ | - | 2017-08-16 18:24:26 | 
| WES.1KG.WUGSC/ | - | 2017-08-16 18:24:27 | 
| XhybCasneuf/ | - | 2017-08-16 18:24:27 | 
| affycompData/ | - | 2017-08-16 18:24:27 | 
| affydata/ | - | 2017-08-16 18:24:27 | 
| airway/ | - | 2017-08-16 18:24:27 | 
| alpineData/ | - | 2017-08-16 18:24:27 | 
| antiProfilesData/ | - | 2017-08-16 18:24:27 | 
| aracne.networks/ | - | 2017-08-16 18:24:27 | 
| bcellViper/ | - | 2017-08-16 18:24:27 | 
| beadarrayExampleData/ | - | 2017-08-16 18:24:27 | 
| beta7/ | - | 2017-08-16 18:24:27 | 
| biotmleData/ | - | 2017-08-16 18:24:26 | 
| bladderbatch/ | - | 2017-08-16 18:24:27 | 
| blimaTestingData/ | - | 2017-08-16 18:24:27 | 
| breastCancerMAINZ/ | - | 2017-08-16 18:24:27 | 
| breastCancerNKI/ | - | 2017-08-16 18:24:27 | 
| breastCancerTRANSBIG/ | - | 2017-08-16 18:24:27 | 
| breastCancerUNT/ | - | 2017-08-16 18:24:27 | 
| breastCancerUPP/ | - | 2017-08-16 18:24:27 | 
| breastCancerVDX/ | - | 2017-08-16 18:24:27 | 
| bronchialIL13/ | - | 2017-08-16 18:24:27 | 
| bsseqData/ | - | 2017-08-16 18:24:27 | 
| cMap2data/ | - | 2017-08-16 18:24:27 | 
| cancerdata/ | - | 2017-08-16 18:24:27 | 
| ccTutorial/ | - | 2017-08-16 18:24:27 | 
| ccdata/ | - | 2017-08-16 18:24:27 | 
| ceu1kg/ | - | 2017-08-16 18:24:27 | 
| ceu1kgv/ | - | 2017-08-16 18:24:27 | 
| ceuhm3/ | - | 2017-08-16 18:24:27 | 
| cgdv17/ | - | 2017-08-16 18:24:27 | 
| charmData/ | - | 2017-08-16 18:24:27 | 
| cheung2010/ | - | 2017-08-16 18:24:27 | 
| chipenrich.data/ | - | 2017-08-16 18:24:27 | 
| chromstaRData/ | - | 2017-08-16 18:24:27 | 
| cnvGSAdata/ | - | 2017-08-16 18:24:27 | 
| colonCA/ | - | 2017-08-16 18:24:27 | 
| curatedBladderData/ | - | 2017-08-16 18:24:27 | 
| curatedBreastData/ | - | 2017-08-16 18:24:27 | 
| curatedCRCData/ | - | 2017-08-16 18:24:27 | 
| curatedMetagenomicData/ | - | 2017-08-16 18:24:27 | 
| curatedOvarianData/ | - | 2017-08-16 18:24:27 | 
| davidTiling/ | - | 2017-08-16 18:24:27 | 
| derfinderData/ | - | 2017-08-16 18:24:27 | 
| diffloopdata/ | - | 2017-08-16 18:24:27 | 
| diggitdata/ | - | 2017-08-16 18:24:27 | 
| dressCheck/ | - | 2017-08-16 18:24:27 | 
| dsQTL/ | - | 2017-08-16 18:24:27 | 
| dyebiasexamples/ | - | 2017-08-16 18:24:27 | 
| ecoliLeucine/ | - | 2017-08-16 18:24:27 | 
| estrogen/ | - | 2017-08-16 18:24:27 | 
| etec16s/ | - | 2017-08-16 18:24:27 | 
| faahKO/ | - | 2017-08-16 18:24:27 | 
| fabiaData/ | - | 2017-08-16 18:24:27 | 
| facopy.annot/ | - | 2017-08-16 18:24:27 | 
| facsDorit/ | - | 2017-08-16 18:24:27 | 
| ffpeExampleData/ | - | 2017-08-16 18:24:27 | 
| fibroEset/ | - | 2017-08-16 18:24:27 | 
| fission/ | - | 2017-08-16 18:24:27 | 
| flowFitExampleData/ | - | 2017-08-16 18:24:27 | 
| flowPloidyData/ | - | 2017-08-16 18:24:27 | 
| flowQBData/ | - | 2017-08-16 18:24:27 | 
| flowWorkspaceData/ | - | 2017-08-16 18:24:27 | 
| frmaExampleData/ | - | 2017-08-16 18:24:27 | 
| furrowSeg/ | - | 2017-08-16 18:24:27 | 
| gageData/ | - | 2017-08-16 18:24:27 | 
| gaschYHS/ | - | 2017-08-16 18:24:27 | 
| gatingMLData/ | - | 2017-08-16 18:24:27 | 
| gcspikelite/ | - | 2017-08-16 18:24:27 | 
| geneLenDataBase/ | - | 2017-08-16 18:24:27 | 
| genomationData/ | - | 2017-08-16 18:24:27 | 
| geuvPack/ | - | 2017-08-16 18:24:27 | 
| geuvStore2/ | - | 2017-08-16 18:24:27 | 
| golubEsets/ | - | 2017-08-16 18:24:27 | 
| grndata/ | - | 2017-08-16 18:24:27 | 
| gskb/ | - | 2017-08-16 18:24:27 | 
| h5vcData/ | - | 2017-08-16 18:24:27 | 
| hapmap100khind/ | - | 2017-08-16 18:24:27 | 
| hapmap100kxba/ | - | 2017-08-16 18:24:27 | 
| hapmap500knsp/ | - | 2017-08-16 18:24:27 | 
| hapmap500ksty/ | - | 2017-08-16 18:24:27 | 
| hapmapsnp5/ | - | 2017-08-16 18:24:27 | 
| hapmapsnp6/ | - | 2017-08-16 18:24:27 | 
| harbChIP/ | - | 2017-08-16 18:24:27 | 
| healthyFlowData/ | - | 2017-08-16 18:24:27 | 
| hgu133abarcodevecs/ | - | 2017-08-16 18:24:27 | 
| hgu133plus2barcodevecs/ | - | 2017-08-16 18:24:27 | 
| hgu2beta7/ | - | 2017-08-16 18:24:27 | 
| hmyriB36/ | - | 2017-08-16 18:24:27 | 
| humanStemCell/ | - | 2017-08-16 18:24:27 | 
| iontreeData/ | - | 2017-08-16 18:24:27 | 
| kidpack/ | - | 2017-08-16 18:24:27 | 
| leeBamViews/ | - | 2017-08-16 18:24:27 | 
| leukemiasEset/ | - | 2017-08-16 18:24:27 | 
| lumiBarnes/ | - | 2017-08-16 18:24:27 | 
| lungExpression/ | - | 2017-08-16 18:24:27 | 
| lydata/ | - | 2017-08-16 18:24:27 | 
| mAPKLData/ | - | 2017-08-16 18:24:27 | 
| mammaPrintData/ | - | 2017-08-16 18:24:27 | 
| maqcExpression4plex/ | - | 2017-08-16 18:24:27 | 
| metaMSdata/ | - | 2017-08-16 18:24:27 | 
| miRNATarget/ | - | 2017-08-16 18:24:27 | 
| miRcompData/ | - | 2017-08-16 18:24:27 | 
| minfiData/ | - | 2017-08-16 18:24:27 | 
| minfiDataEPIC/ | - | 2017-08-16 18:24:27 | 
| minionSummaryData/ | - | 2017-08-16 18:24:27 | 
| mitoODEdata/ | - | 2017-08-16 18:24:27 | 
| mosaicsExample/ | - | 2017-08-16 18:24:27 | 
| mouse4302barcodevecs/ | - | 2017-08-16 18:24:27 | 
| msPurityData/ | - | 2017-08-16 18:24:27 | 
| msd16s/ | - | 2017-08-16 18:24:27 | 
| msdata/ | - | 2017-08-16 18:24:27 | 
| msqc1/ | - | 2017-08-16 18:24:27 | 
| mtbls2/ | - | 2017-08-16 18:24:27 | 
| mvoutData/ | - | 2017-08-16 18:24:27 | 
| pRolocdata/ | - | 2017-08-16 18:24:27 | 
| parathyroidSE/ | - | 2017-08-16 18:24:27 | 
| pasilla/ | - | 2017-08-16 18:24:27 | 
| pasillaBamSubset/ | - | 2017-08-16 18:24:27 | 
| pathprintGEOData/ | - | 2017-08-16 18:24:26 | 
| pcaGoPromoter.Hs.hg19/ | - | 2017-08-16 18:24:27 | 
| pcaGoPromoter.Mm.mm9/ | - | 2017-08-16 18:24:27 | 
| pcaGoPromoter.Rn.rn4/ | - | 2017-08-16 18:24:27 | 
| pd.atdschip.tiling/ | - | 2017-08-16 18:24:27 | 
| pepDat/ | - | 2017-08-16 18:24:27 | 
| plasFIA/ | - | 2017-08-16 18:24:27 | 
| ppiData/ | - | 2017-08-16 18:24:27 | 
| prebsdata/ | - | 2017-08-16 18:24:27 | 
| prostateCancerCamcap/ | - | 2017-08-16 18:24:27 | 
| prostateCancerGrasso/ | - | 2017-08-16 18:24:27 | 
| prostateCancerStockholm/ | - | 2017-08-16 18:24:27 | 
| prostateCancerTaylor/ | - | 2017-08-16 18:24:27 | 
| prostateCancerVarambally/ | - | 2017-08-16 18:24:27 | 
| pumadata/ | - | 2017-08-16 18:24:27 | 
| rRDPData/ | - | 2017-08-16 18:24:27 | 
| rcellminerData/ | - | 2017-08-16 18:24:27 | 
| rheumaticConditionWOLLBOLD/ | - | 2017-08-16 18:24:27 | 
| sampleClassifierData/ | - | 2017-08-16 18:24:26 | 
| scRNAseq/ | - | 2017-08-16 18:24:27 | 
| seq2pathway.data/ | - | 2017-08-16 18:24:27 | 
| seqCNA.annot/ | - | 2017-08-16 18:24:27 | 
| seqc/ | - | 2017-08-16 18:24:27 | 
| serumStimulation/ | - | 2017-08-16 18:24:27 | 
| seventyGeneData/ | - | 2017-08-16 18:24:27 | 
| shinyMethylData/ | - | 2017-08-16 18:24:27 | 
| simpIntLists/ | - | 2017-08-16 18:24:27 | 
| stemHypoxia/ | - | 2017-08-16 18:24:27 | 
| stjudem/ | - | 2017-08-16 18:24:27 | 
| synapterdata/ | - | 2017-08-16 18:24:27 | 
| systemPipeRdata/ | - | 2017-08-16 18:24:27 | 
| tinesath1cdf/ | - | 2017-08-16 18:24:27 | 
| tinesath1probe/ | - | 2017-08-16 18:24:27 | 
| tofsimsData/ | - | 2017-08-16 18:24:27 | 
| tweeDEseqCountData/ | - | 2017-08-16 18:24:27 | 
| tximportData/ | - | 2017-08-16 18:24:27 | 
| waveTilingData/ | - | 2017-08-16 18:24:27 | 
| yeastCC/ | - | 2017-08-16 18:24:27 | 
| yeastExpData/ | - | 2017-08-16 18:24:27 | 
| yeastGSData/ | - | 2017-08-16 18:24:27 | 
| yeastNagalakshmi/ | - | 2017-08-16 18:24:27 | 
| yeastRNASeq/ | - | 2017-08-16 18:24:27 | 
| yri1kgv/ | - | 2017-08-16 18:24:27 | 
| yriMulti/ | - | 2017-08-16 18:24:27 | 
| zebrafishRNASeq/ | - | 2017-08-16 18:24:27 | 
| 120px-Blue_Light_Icon.svg.png | 7.1 KiB | 2017-08-16 18:24:26 | 
| 120px-Green_Light_Icon.svg.png | 7.1 KiB | 2017-08-16 18:24:26 | 
| 120px-Red_Light_Icon.svg.png | 7.0 KiB | 2017-08-16 18:24:26 | 
| DEVEL3b.png | 2.6 KiB | 2017-08-16 18:24:26 | 
| STATUS_DB.txt | 34.3 KiB | 2017-08-16 18:24:26 | 
| index.html | 309.6 KiB | 2017-08-16 18:24:26 | 
| malbec2-NodeInfo.html | 5.9 KiB | 2017-08-16 18:24:26 | 
| malbec2-R-instpkgs.html | 117.7 KiB | 2017-08-16 18:24:26 | 
| meat-index.txt | 74.1 KiB | 2017-08-16 18:24:26 | 
| report.css | 9.2 KiB | 2017-08-16 18:24:26 | 
| report.js | 5.1 KiB | 2017-08-16 18:24:26 | 
| report.tgz | 423.3 KiB | 2017-08-16 18:24:26 |