| Back to Multiple platform build/check report for BioC 3.8 experimental data | 
This page was generated on 2019-04-16 15:26:14 -0400 (Tue, 16 Apr 2019).
| Package 301/360 | Hostname | OS / Arch | INSTALL | BUILD | CHECK | BUILD BIN | ||||||
| RTCGA.rnaseq 20151101.12.0 Marcin Kosinski 
 | malbec1 | Linux (Ubuntu 16.04.6 LTS) / x86_64 | OK | [ OK ] | OK |  | 
| Package: RTCGA.rnaseq | 
| Version: 20151101.12.0 | 
| Command: /home/biocbuild/bbs-3.8-bioc/R/bin/R CMD build --keep-empty-dirs --no-resave-data RTCGA.rnaseq | 
| StartedAt: 2019-04-16 12:39:35 -0400 (Tue, 16 Apr 2019) | 
| EndedAt: 2019-04-16 12:44:08 -0400 (Tue, 16 Apr 2019) | 
| EllapsedTime: 272.9 seconds | 
| RetCode: 0 | 
| Status: OK | 
| PackageFile: RTCGA.rnaseq_20151101.12.0.tar.gz | 
| PackageFileSize: 612.6 MiB | 
############################################################################## ############################################################################## ### ### Running command: ### ### /home/biocbuild/bbs-3.8-bioc/R/bin/R CMD build --keep-empty-dirs --no-resave-data RTCGA.rnaseq ### ############################################################################## ############################################################################## * checking for file ‘RTCGA.rnaseq/DESCRIPTION’ ... OK * preparing ‘RTCGA.rnaseq’: * checking DESCRIPTION meta-information ... OK * installing the package to build vignettes * creating vignettes ... OK * checking for LF line-endings in source and make files and shell scripts * checking for empty or unneeded directories * looking to see if a ‘data/datalist’ file should be added * building ‘RTCGA.rnaseq_20151101.12.0.tar.gz’