| Back to Multiple platform build/check report for BioC 3.8 experimental data |
This page was generated on 2019-04-16 15:26:00 -0400 (Tue, 16 Apr 2019).
| Package 146/360 | Hostname | OS / Arch | INSTALL | BUILD | CHECK | BUILD BIN | ||||||
| hapmap500knsp 1.24.0 Benilton Carvalho
| malbec1 | Linux (Ubuntu 16.04.6 LTS) / x86_64 | OK | OK | [ OK ] |
| Package: hapmap500knsp |
| Version: 1.24.0 |
| Command: /home/biocbuild/bbs-3.8-bioc/R/bin/R CMD check --install=check:hapmap500knsp.install-out.txt --library=/home/biocbuild/bbs-3.8-bioc/R/library --no-vignettes --timings hapmap500knsp_1.24.0.tar.gz |
| StartedAt: 2019-04-16 13:45:21 -0400 (Tue, 16 Apr 2019) |
| EndedAt: 2019-04-16 13:45:38 -0400 (Tue, 16 Apr 2019) |
| EllapsedTime: 16.7 seconds |
| RetCode: 0 |
| Status: OK |
| CheckDir: hapmap500knsp.Rcheck |
| Warnings: 0 |
##############################################################################
##############################################################################
###
### Running command:
###
### /home/biocbuild/bbs-3.8-bioc/R/bin/R CMD check --install=check:hapmap500knsp.install-out.txt --library=/home/biocbuild/bbs-3.8-bioc/R/library --no-vignettes --timings hapmap500knsp_1.24.0.tar.gz
###
##############################################################################
##############################################################################
* using log directory ‘/home/biocbuild/bbs-3.8-data-experiment/meat/hapmap500knsp.Rcheck’
* using R version 3.5.3 (2019-03-11)
* using platform: x86_64-pc-linux-gnu (64-bit)
* using session charset: UTF-8
* using option ‘--no-vignettes’
* checking for file ‘hapmap500knsp/DESCRIPTION’ ... OK
* this is package ‘hapmap500knsp’ version ‘1.24.0’
* checking package namespace information ... OK
* checking package dependencies ... OK
* checking if this is a source package ... OK
* checking if there is a namespace ... OK
* checking for hidden files and directories ... OK
* checking for portable file names ... OK
* checking for sufficient/correct file permissions ... OK
* checking whether package ‘hapmap500knsp’ can be installed ... OK
* checking installed package size ... NOTE
installed size is 188.1Mb
sub-directories of 1Mb or more:
celFiles 188.0Mb
* checking package directory ... OK
* checking DESCRIPTION meta-information ... NOTE
Malformed Description field: should contain one or more complete sentences.
* checking top-level files ... OK
* checking for left-over files ... OK
* checking index information ... OK
* checking package subdirectories ... OK
* checking R files for non-ASCII characters ... OK
* checking R files for syntax errors ... OK
* checking whether the package can be loaded ... OK
* checking whether the package can be loaded with stated dependencies ... OK
* checking whether the package can be unloaded cleanly ... OK
* checking whether the namespace can be loaded with stated dependencies ... OK
* checking whether the namespace can be unloaded cleanly ... OK
* checking dependencies in R code ... OK
* checking S3 generic/method consistency ... OK
* checking replacement functions ... OK
* checking foreign function calls ... OK
* checking R code for possible problems ... OK
* checking Rd files ... OK
* checking Rd metadata ... OK
* checking Rd cross-references ... OK
* checking for missing documentation entries ... OK
* checking for code/documentation mismatches ... OK
* checking Rd \usage sections ... OK
* checking Rd contents ... OK
* checking for unstated dependencies in examples ... OK
* checking examples ... OK
* checking PDF version of manual ... OK
* DONE
Status: 2 NOTEs
See
‘/home/biocbuild/bbs-3.8-data-experiment/meat/hapmap500knsp.Rcheck/00check.log’
for details.
hapmap500knsp.Rcheck/00install.out
############################################################################## ############################################################################## ### ### Running command: ### ### /home/biocbuild/bbs-3.8-bioc/R/bin/R CMD INSTALL hapmap500knsp ### ############################################################################## ############################################################################## * installing to library ‘/home/biocbuild/bbs-3.8-bioc/R/library’ * installing *source* package ‘hapmap500knsp’ ... ** R ** inst ** byte-compile and prepare package for lazy loading ** help *** installing help indices ** building package indices ** testing if installed package can be loaded * DONE (hapmap500knsp)
hapmap500knsp.Rcheck/hapmap500knsp-Ex.timings
| name | user | system | elapsed | |
| hapmap500knsp-package | 0 | 0 | 0 | |