This page was generated on 2019-04-09 11:15:47 -0400 (Tue, 09 Apr 2019).
AnnotationFilter 1.7.0 Bioconductor Package Maintainer
 
| Snapshot Date: 2019-04-08 17:01:18 -0400 (Mon, 08 Apr 2019) |  
| URL: https://git.bioconductor.org/packages/AnnotationFilter |  
| Branch: master |  
| Last Commit: e11a05a |  
| Last Changed Date: 2018-10-30 11:54:37 -0400 (Tue, 30 Oct 2018) |  
 
 | malbec2  | Linux (Ubuntu 18.04.2 LTS) / x86_64  |  OK  |  OK  |  OK  |  |   | 
| tokay2  | Windows Server 2012 R2 Standard / x64  |  OK  |  OK  |  OK  |  OK  |   | 
| celaya2  | OS X 10.11.6 El Capitan / x86_64  |  OK  |  OK  |  OK  |  OK  |   | 
| merida2  | OS X 10.11.6 El Capitan / x86_64  |  OK  |  OK  |  OK  |  OK  |  |