This page was generated on 2019-04-09 11:15:48 -0400 (Tue, 09 Apr 2019).
AnnotationHubData 1.13.10 Bioconductor Package Maintainer
| Snapshot Date: 2019-04-08 17:01:18 -0400 (Mon, 08 Apr 2019) |
| URL: https://git.bioconductor.org/packages/AnnotationHubData |
| Branch: master |
| Last Commit: 22d0b7a |
| Last Changed Date: 2019-03-29 12:07:16 -0400 (Fri, 29 Mar 2019) |
| malbec2 | Linux (Ubuntu 18.04.2 LTS) / x86_64 | OK | OK | OK | |  |
| tokay2 | Windows Server 2012 R2 Standard / x64 | OK | OK | OK | OK |  |
| celaya2 | OS X 10.11.6 El Capitan / x86_64 | OK | OK | OK | OK |  |
| merida2 | OS X 10.11.6 El Capitan / x86_64 | OK | OK | OK | OK | |