| Back to Multiple platform build/check report for BioC 3.9 |
|
This page was generated on 2019-04-09 11:56:54 -0400 (Tue, 09 Apr 2019).
| Package 1538/1703 | Hostname | OS / Arch | INSTALL | BUILD | CHECK | BUILD BIN | ||||||
| spkTools 1.39.0 Matthew N McCall
| malbec2 | Linux (Ubuntu 18.04.2 LTS) / x86_64 | OK | OK | OK | |||||||
| tokay2 | Windows Server 2012 R2 Standard / x64 | OK | OK | OK | [ OK ] | |||||||
| celaya2 | OS X 10.11.6 El Capitan / x86_64 | OK | OK | OK | OK | |||||||
| merida2 | OS X 10.11.6 El Capitan / x86_64 | OK | OK | OK | OK |
| Package: spkTools |
| Version: 1.39.0 |
| Command: rm -rf spkTools.buildbin-libdir && mkdir spkTools.buildbin-libdir && C:\Users\biocbuild\bbs-3.9-bioc\R\bin\R.exe CMD INSTALL --merge-multiarch --build --library=spkTools.buildbin-libdir spkTools_1.39.0.tar.gz |
| StartedAt: 2019-04-09 09:01:19 -0400 (Tue, 09 Apr 2019) |
| EndedAt: 2019-04-09 09:02:05 -0400 (Tue, 09 Apr 2019) |
| EllapsedTime: 46.3 seconds |
| RetCode: 0 |
| Status: OK |
| PackageFile: spkTools_1.39.0.zip |
| PackageFileSize: 724.1 KiB |
##############################################################################
##############################################################################
###
### Running command:
###
### rm -rf spkTools.buildbin-libdir && mkdir spkTools.buildbin-libdir && C:\Users\biocbuild\bbs-3.9-bioc\R\bin\R.exe CMD INSTALL --merge-multiarch --build --library=spkTools.buildbin-libdir spkTools_1.39.0.tar.gz
###
##############################################################################
##############################################################################
install for i386
* installing *source* package 'spkTools' ...
** R
** data
** inst
** byte-compile and prepare package for lazy loading
** help
*** installing help indices
converting help for package 'spkTools'
finding HTML links ... done
SpikeInExpressSet-class html
affy html
plotSpkBox html
spkAccSD html
spkAll html
spkAnova html
spkBal html
spkBox html
spkDensity html
spkGNN html
spkMA html
spkPair html
spkPairNS html
spkPot html
spkQuantile html
spkSlope html
spkTools html
spkVar html
summarySpkBox html
** building package indices
** installing vignettes
** testing if installed package can be loaded from temporary location
** testing if installed package can be loaded from final location
** testing if installed package keeps a record of temporary installation path
install for x64
* installing *source* package 'spkTools' ...
** testing if installed package can be loaded
* MD5 sums
packaged installation of 'spkTools' as spkTools_1.39.0.zip
* DONE (spkTools)