| Back to Multiple platform build/check report for BioC 3.9 | 
 | 
This page was generated on 2019-04-09 11:23:57 -0400 (Tue, 09 Apr 2019).
| Package 1690/1703 | Hostname | OS / Arch | INSTALL | BUILD | CHECK | BUILD BIN | ||||||
| xcms 3.5.1 Steffen Neumann 
 | malbec2 | Linux (Ubuntu 18.04.2 LTS) / x86_64 | OK | [ OK ] | OK |  | ||||||
| tokay2 | Windows Server 2012 R2 Standard / x64 | OK | OK | OK | OK |  | ||||||
| celaya2 | OS X 10.11.6 El Capitan / x86_64 | OK | OK | OK | OK |  | ||||||
| merida2 | OS X 10.11.6 El Capitan / x86_64 | OK | OK | OK | OK | 
| Package: xcms | 
| Version: 3.5.1 | 
| Command: /home/biocbuild/bbs-3.9-bioc/R/bin/R CMD build --keep-empty-dirs --no-resave-data xcms | 
| StartedAt: 2019-04-08 19:06:07 -0400 (Mon, 08 Apr 2019) | 
| EndedAt: 2019-04-08 19:11:32 -0400 (Mon, 08 Apr 2019) | 
| EllapsedTime: 324.8 seconds | 
| RetCode: 0 | 
| Status: OK | 
| PackageFile: xcms_3.5.1.tar.gz | 
| PackageFileSize: 4.834 MiB | 
##############################################################################
##############################################################################
###
### Running command:
###
###   /home/biocbuild/bbs-3.9-bioc/R/bin/R CMD build --keep-empty-dirs --no-resave-data xcms
###
##############################################################################
##############################################################################
* checking for file ‘xcms/DESCRIPTION’ ... OK
* preparing ‘xcms’:
* checking DESCRIPTION meta-information ... OK
* cleaning src
* installing the package to build vignettes
* creating vignettes ... OK
Warning: ‘inst/doc’ files
    ‘xcms-direct-injection.R’, ‘xcmsMSn.R’
  ignored as vignettes have been rebuilt.
  Run R CMD build with --no-build-vignettes to prevent rebuilding.
* cleaning src
* checking for LF line-endings in source and make files and shell scripts
* checking for empty or unneeded directories
* building ‘xcms_3.5.1.tar.gz’