| Back to Multiple platform build/check report for BioC 3.9 |
|
This page was generated on 2019-10-16 12:33:11 -0400 (Wed, 16 Oct 2019).
| Package 435/1741 | Hostname | OS / Arch | INSTALL | BUILD | CHECK | BUILD BIN | ||||||
| diffHic 1.16.0 Aaron Lun
| malbec2 | Linux (Ubuntu 18.04.2 LTS) / x86_64 | OK | OK | OK | |||||||
| tokay2 | Windows Server 2012 R2 Standard / x64 | OK | OK | WARNINGS | [ OK ] | |||||||
| celaya2 | OS X 10.11.6 El Capitan / x86_64 | OK | OK | OK | OK |
| Package: diffHic |
| Version: 1.16.0 |
| Command: rm -rf diffHic.buildbin-libdir && mkdir diffHic.buildbin-libdir && C:\Users\biocbuild\bbs-3.9-bioc\R\bin\R.exe CMD INSTALL --merge-multiarch --build --library=diffHic.buildbin-libdir diffHic_1.16.0.tar.gz |
| StartedAt: 2019-10-16 09:04:39 -0400 (Wed, 16 Oct 2019) |
| EndedAt: 2019-10-16 09:08:12 -0400 (Wed, 16 Oct 2019) |
| EllapsedTime: 213.0 seconds |
| RetCode: 0 |
| Status: OK |
| PackageFile: diffHic_1.16.0.zip |
| PackageFileSize: 3.229 MiB |
##############################################################################
##############################################################################
###
### Running command:
###
### rm -rf diffHic.buildbin-libdir && mkdir diffHic.buildbin-libdir && C:\Users\biocbuild\bbs-3.9-bioc\R\bin\R.exe CMD INSTALL --merge-multiarch --build --library=diffHic.buildbin-libdir diffHic_1.16.0.tar.gz
###
##############################################################################
##############################################################################
install for i386
* installing *source* package 'diffHic' ...
** using staged installation
** libs
C:/Rtools/mingw_32/bin/g++ -std=gnu++11 -I"C:/Users/BIOCBU~1/BBS-3~1.9-B/R/include" -DNDEBUG -I"C:/Users/biocbuild/bbs-3.9-bioc/R/library/Rhtslib/include" -I"C:/Users/biocbuild/bbs-3.9-bioc/R/library/zlibbioc/include" -I"C:/Users/biocbuild/bbs-3.9-bioc/R/library/Rcpp/include" -I"C:/extsoft/include" -O2 -Wall -mtune=generic -c binner.cpp -o binner.o
C:/Rtools/mingw_32/bin/g++ -std=gnu++11 -I"C:/Users/BIOCBU~1/BBS-3~1.9-B/R/include" -DNDEBUG -I"C:/Users/biocbuild/bbs-3.9-bioc/R/library/Rhtslib/include" -I"C:/Users/biocbuild/bbs-3.9-bioc/R/library/zlibbioc/include" -I"C:/Users/biocbuild/bbs-3.9-bioc/R/library/Rcpp/include" -I"C:/extsoft/include" -O2 -Wall -mtune=generic -c check_input.cpp -o check_input.o
C:/Rtools/mingw_32/bin/g++ -std=gnu++11 -I"C:/Users/BIOCBU~1/BBS-3~1.9-B/R/include" -DNDEBUG -I"C:/Users/biocbuild/bbs-3.9-bioc/R/library/Rhtslib/include" -I"C:/Users/biocbuild/bbs-3.9-bioc/R/library/zlibbioc/include" -I"C:/Users/biocbuild/bbs-3.9-bioc/R/library/Rcpp/include" -I"C:/extsoft/include" -O2 -Wall -mtune=generic -c cluster_2d.cpp -o cluster_2d.o
C:/Rtools/mingw_32/bin/g++ -std=gnu++11 -I"C:/Users/BIOCBU~1/BBS-3~1.9-B/R/include" -DNDEBUG -I"C:/Users/biocbuild/bbs-3.9-bioc/R/library/Rhtslib/include" -I"C:/Users/biocbuild/bbs-3.9-bioc/R/library/zlibbioc/include" -I"C:/Users/biocbuild/bbs-3.9-bioc/R/library/Rcpp/include" -I"C:/extsoft/include" -O2 -Wall -mtune=generic -c count_background.cpp -o count_background.o
C:/Rtools/mingw_32/bin/g++ -std=gnu++11 -I"C:/Users/BIOCBU~1/BBS-3~1.9-B/R/include" -DNDEBUG -I"C:/Users/biocbuild/bbs-3.9-bioc/R/library/Rhtslib/include" -I"C:/Users/biocbuild/bbs-3.9-bioc/R/library/zlibbioc/include" -I"C:/Users/biocbuild/bbs-3.9-bioc/R/library/Rcpp/include" -I"C:/extsoft/include" -O2 -Wall -mtune=generic -c count_connect.cpp -o count_connect.o
count_connect.cpp: In function 'SEXPREC* count_connect(SEXP, SEXP)':
count_connect.cpp:57:30: warning: comparison between signed and unsigned integer expressions [-Wsign-compare]
for (size_t odex=0; odex < ncombos; ++odex) {
^
C:/Rtools/mingw_32/bin/g++ -std=gnu++11 -I"C:/Users/BIOCBU~1/BBS-3~1.9-B/R/include" -DNDEBUG -I"C:/Users/biocbuild/bbs-3.9-bioc/R/library/Rhtslib/include" -I"C:/Users/biocbuild/bbs-3.9-bioc/R/library/zlibbioc/include" -I"C:/Users/biocbuild/bbs-3.9-bioc/R/library/Rcpp/include" -I"C:/extsoft/include" -O2 -Wall -mtune=generic -c count_patch.cpp -o count_patch.o
count_patch.cpp: In function 'SEXPREC* count_patch(SEXP, SEXP, SEXP, SEXP, SEXP)':
count_patch.cpp:45:33: warning: comparison between signed and unsigned integer expressions [-Wsign-compare]
for (size_t vecdex=0; vecdex