Package: ABarray Version: 1.79.0 Command: /Library/Frameworks/R.framework/Resources/bin/R CMD build --keep-empty-dirs --no-resave-data ABarray StartedAt: 2025-11-21 16:02:03 -0500 (Fri, 21 Nov 2025) EndedAt: 2025-11-21 16:02:31 -0500 (Fri, 21 Nov 2025) EllapsedTime: 27.6 seconds RetCode: 0 Status: OK PackageFile: ABarray_1.79.0.tar.gz PackageFileSize: 683.5 KiB