Package: ABarray Version: 1.79.0 Command: /Library/Frameworks/R.framework/Resources/bin/R CMD INSTALL ABarray StartedAt: 2025-11-21 15:20:16 -0500 (Fri, 21 Nov 2025) EndedAt: 2025-11-21 15:20:33 -0500 (Fri, 21 Nov 2025) EllapsedTime: 16.3 seconds RetCode: 0 Status: OK