Package: ABarray Version: 1.79.0 Command: /home/biocbuild/bbs-3.23-bioc/R/bin/R CMD build --keep-empty-dirs --no-resave-data ABarray StartedAt: 2025-11-16 16:08:07 -0500 (Sun, 16 Nov 2025) EndedAt: 2025-11-16 16:08:20 -0500 (Sun, 16 Nov 2025) EllapsedTime: 13.0 seconds RetCode: 0 Status: OK PackageFile: ABarray_1.79.0.tar.gz PackageFileSize: 686.3 KiB