Package: ABarray Version: 1.79.0 Command: /home/biocbuild/bbs-3.23-bioc/R/bin/R CMD INSTALL ABarray StartedAt: 2025-11-17 15:15:03 -0500 (Mon, 17 Nov 2025) EndedAt: 2025-11-17 15:15:11 -0500 (Mon, 17 Nov 2025) EllapsedTime: 8.0 seconds RetCode: 0 Status: OK