Package: ABarray Version: 1.77.0 Command: /home/biocbuild/bbs-3.22-bioc/R/bin/R CMD build --keep-empty-dirs --no-resave-data --md5 ABarray StartedAt: 2025-07-24 16:12:10 -0400 (Thu, 24 Jul 2025) EndedAt: 2025-07-24 16:12:23 -0400 (Thu, 24 Jul 2025) EllapsedTime: 13.0 seconds RetCode: 0 Status: OK PackageFile: ABarray_1.77.0.tar.gz PackageFileSize: 687.9 KiB