Package: ABarray Version: 1.77.0 Command: /home/biocbuild/bbs-3.22-bioc/R/bin/R CMD INSTALL ABarray StartedAt: 2025-07-24 15:19:56 -0400 (Thu, 24 Jul 2025) EndedAt: 2025-07-24 15:20:04 -0400 (Thu, 24 Jul 2025) EllapsedTime: 8.4 seconds RetCode: 0 Status: OK