Package: ADaCGH2 Version: 2.49.0 Command: /home/biocbuild/bbs-3.22-bioc/R/bin/R CMD INSTALL ADaCGH2 StartedAt: 2025-10-20 15:53:28 -0400 (Mon, 20 Oct 2025) EndedAt: 2025-10-20 15:53:52 -0400 (Mon, 20 Oct 2025) EllapsedTime: 23.7 seconds RetCode: 0 Status: OK