Package: ARRmNormalization Version: 1.49.0 Command: /home/biocbuild/bbs-3.22-bioc/R/bin/R CMD INSTALL ARRmNormalization StartedAt: 2025-10-02 15:04:27 -0400 (Thu, 02 Oct 2025) EndedAt: 2025-10-02 15:04:46 -0400 (Thu, 02 Oct 2025) EllapsedTime: 19.0 seconds RetCode: 0 Status: OK