Package: ASICS Version: 2.25.0 Command: /home/biocbuild/bbs-3.22-bioc/R/bin/R CMD INSTALL ASICS StartedAt: 2025-10-02 15:21:55 -0400 (Thu, 02 Oct 2025) EndedAt: 2025-10-02 15:22:30 -0400 (Thu, 02 Oct 2025) EllapsedTime: 34.7 seconds RetCode: 0 Status: OK