Package: ATACseqQC Version: 1.33.1 Command: /home/biocbuild/bbs-3.22-bioc/R/bin/R CMD INSTALL ATACseqQC StartedAt: 2025-10-08 16:10:29 -0400 (Wed, 08 Oct 2025) EndedAt: 2025-10-08 16:11:45 -0400 (Wed, 08 Oct 2025) EllapsedTime: 76.3 seconds RetCode: 0 Status: OK