Package: AnVILBase Version: 1.3.1 Command: /home/biocbuild/bbs-3.22-bioc/R/bin/R CMD INSTALL AnVILBase StartedAt: 2025-10-06 15:08:42 -0400 (Mon, 06 Oct 2025) EndedAt: 2025-10-06 15:08:50 -0400 (Mon, 06 Oct 2025) EllapsedTime: 7.5 seconds RetCode: 0 Status: OK