Package: AnnotationForge Version: 1.51.0 Command: /home/biocbuild/bbs-3.22-bioc/R/bin/R CMD INSTALL AnnotationForge StartedAt: 2025-10-02 15:26:13 -0400 (Thu, 02 Oct 2025) EndedAt: 2025-10-02 15:26:29 -0400 (Thu, 02 Oct 2025) EllapsedTime: 16.1 seconds RetCode: 0 Status: OK