Package: BBCAnalyzer Version: 1.39.0 Command: /home/biocbuild/bbs-3.22-bioc/R/bin/R CMD INSTALL BBCAnalyzer StartedAt: 2025-10-10 15:52:54 -0400 (Fri, 10 Oct 2025) EndedAt: 2025-10-10 15:53:37 -0400 (Fri, 10 Oct 2025) EllapsedTime: 42.7 seconds RetCode: 0 Status: OK